BEGIN:VCALENDAR
VERSION:2.0
PRODID:-//Bureau of Justice Assistance//NONSGML Event Calendar//EN
BEGIN:VEVENT
UID:bab114d9-5c9c-4712-9762-379105ada411
DTSTART;VALUE=DATE:20240104
SEQUENCE:0
TRANSP:OPAQUE
DTEND;VALUE=DATE:20240108
LOCATION:https://www.bja.ojp.gov/events/american-correctional-association-w
 inter-conference-4
SUMMARY:American Correctional Association Winter Conference
CLASS:PUBLIC
DESCRIPTION:Learn more about this event: https://www.bja.ojp.gov/events/ame
 rican-correctional-association-winter-conference-4
X-MICROSOFT-CDO-ALLDAYEVENT:TRUE
DTSTAMP:20260425T154530Z
END:VEVENT
END:VCALENDAR