BEGIN:VCALENDAR
VERSION:2.0
PRODID:-//Bureau of Justice Assistance//NONSGML Event Calendar//EN
BEGIN:VEVENT
UID:c261ab2e-4bf4-4b68-8d6d-d24f05b878be
DTSTART;TZID=UTC:20230801T180000
SEQUENCE:0
TRANSP:OPAQUE
DTEND;TZID=UTC:20230801T193000
LOCATION:https://www.bja.ojp.gov/events/making-changes-work-criminal-justic
 e-system-best-practices-quality-improvement
SUMMARY:Making Changes Work in the Criminal Justice System: Best Practices 
 for Quality Improvement
CLASS:PUBLIC
DESCRIPTION:Learn more about this event: https://www.bja.ojp.gov/events/mak
 ing-changes-work-criminal-justice-system-best-practices-quality-improvemen
 t
DTSTAMP:20260420T052541Z
END:VEVENT
END:VCALENDAR