BEGIN:VCALENDAR
VERSION:2.0
PRODID:-//Bureau of Justice Assistance//NONSGML Event Calendar//EN
BEGIN:VEVENT
UID:bf502620-fb29-41e8-9ce2-dbaaf631ee08
DTSTART;TZID=UTC:20230918T170000
SEQUENCE:0
TRANSP:OPAQUE
DTEND;TZID=UTC:20230918T183000
LOCATION:https://www.bja.ojp.gov/events/justgrants-virtual-qa-post-award-ma
 nagement-96
SUMMARY:JustGrants Virtual Q&A: Post-Award Management
CLASS:PUBLIC
DESCRIPTION:Learn more about this event: https://www.bja.ojp.gov/events/jus
 tgrants-virtual-qa-post-award-management-96
DTSTAMP:20260422T212333Z
END:VEVENT
END:VCALENDAR