BEGIN:VCALENDAR
VERSION:2.0
PRODID:-//Bureau of Justice Assistance//NONSGML Event Calendar//EN
BEGIN:VEVENT
UID:c87065b3-7834-41ef-9baa-f0e10784d530
DTSTART;TZID=UTC:20230921T180000
SEQUENCE:0
TRANSP:OPAQUE
DTEND;TZID=UTC:20230921T190000
LOCATION:https://www.bja.ojp.gov/events/justgrants-virtual-qa-award-accepta
 nce-96
SUMMARY:JustGrants Virtual Q&A: Award Acceptance
CLASS:PUBLIC
DESCRIPTION:Learn more about this event: https://www.bja.ojp.gov/events/jus
 tgrants-virtual-qa-award-acceptance-96
DTSTAMP:20260420T052424Z
END:VEVENT
END:VCALENDAR