BEGIN:VCALENDAR
VERSION:2.0
PRODID:-//Bureau of Justice Assistance//NONSGML Event Calendar//EN
BEGIN:VEVENT
UID:bbc25a0b-5352-4b0c-a8f1-71d19e281983
DTSTART;TZID=UTC:20230926T180000
SEQUENCE:0
TRANSP:OPAQUE
DTEND;TZID=UTC:20230926T190000
LOCATION:https://www.bja.ojp.gov/events/justgrants-virtual-qa-entity-manage
 ment-99
SUMMARY:JustGrants Virtual Q&A: Entity Management
CLASS:PUBLIC
DESCRIPTION:Learn more about this event: https://www.bja.ojp.gov/events/jus
 tgrants-virtual-qa-entity-management-99
DTSTAMP:20260420T052540Z
END:VEVENT
END:VCALENDAR