BEGIN:VCALENDAR
VERSION:2.0
PRODID:-//Bureau of Justice Assistance//NONSGML Event Calendar//EN
BEGIN:VEVENT
UID:a387fdfe-b8bb-4374-9b2b-aa39a9713fca
DTSTART;TZID=UTC:20230919T180000
SEQUENCE:0
TRANSP:OPAQUE
DTEND;TZID=UTC:20230919T190000
LOCATION:https://www.bja.ojp.gov/events/justgrants-virtual-qa-entity-manage
 ment-98
SUMMARY:JustGrants Virtual Q&A: Entity Management
CLASS:PUBLIC
DESCRIPTION:Learn more about this event: https://www.bja.ojp.gov/events/jus
 tgrants-virtual-qa-entity-management-98
DTSTAMP:20260420T052521Z
END:VEVENT
END:VCALENDAR