BEGIN:VCALENDAR
VERSION:2.0
PRODID:-//Bureau of Justice Assistance//NONSGML Event Calendar//EN
BEGIN:VEVENT
UID:08409f82-1b00-472c-9f43-972aaf88840d
DTSTART;VALUE=DATE:20231005
SEQUENCE:0
TRANSP:OPAQUE
DTEND;VALUE=DATE:20231007
LOCATION:https://www.bja.ojp.gov/events/national-convening-witness-intimida
 tion
SUMMARY:National Convening on Witness Intimidation
CLASS:PUBLIC
DESCRIPTION:Learn more about this event: https://www.bja.ojp.gov/events/nat
 ional-convening-witness-intimidation
X-MICROSOFT-CDO-ALLDAYEVENT:TRUE
DTSTAMP:20260420T052002Z
END:VEVENT
END:VCALENDAR