BEGIN:VCALENDAR
VERSION:2.0
PRODID:-//Bureau of Justice Assistance//NONSGML Event Calendar//EN
BEGIN:VEVENT
UID:0214fff9-b040-4267-8e73-8890612632d4
DTSTART;VALUE=DATE:20230912
SEQUENCE:0
TRANSP:OPAQUE
DTEND;VALUE=DATE:20230915
LOCATION:https://www.bja.ojp.gov/events/2023-tribal-healing-wellness-court-
 enhancement-training
SUMMARY:2023 Tribal Healing to Wellness Court Enhancement Training
CLASS:PUBLIC
DESCRIPTION:Learn more about this event: https://www.bja.ojp.gov/events/202
 3-tribal-healing-wellness-court-enhancement-training
X-MICROSOFT-CDO-ALLDAYEVENT:TRUE
DTSTAMP:20260422T210738Z
END:VEVENT
END:VCALENDAR