BEGIN:VCALENDAR
VERSION:2.0
PRODID:-//Bureau of Justice Assistance//NONSGML Event Calendar//EN
BEGIN:VEVENT
UID:399f5a3e-0e60-41a8-a4f1-6df81b2e66a0
DTSTART;VALUE=DATE:20231014
SEQUENCE:0
TRANSP:OPAQUE
DTEND;VALUE=DATE:20231018
LOCATION:https://www.bja.ojp.gov/events/international-association-chiefs-po
 lice-annual-conference-and-exposition-1
SUMMARY:International Association of Chiefs of Police Annual Conference and
  Exposition
CLASS:PUBLIC
DESCRIPTION:Learn more about this event: https://www.bja.ojp.gov/events/int
 ernational-association-chiefs-police-annual-conference-and-exposition-1
X-MICROSOFT-CDO-ALLDAYEVENT:TRUE
DTSTAMP:20260422T233025Z
END:VEVENT
END:VCALENDAR