BEGIN:VCALENDAR
VERSION:2.0
PRODID:-//Bureau of Justice Assistance//NONSGML Event Calendar//EN
BEGIN:VEVENT
UID:c5e87fb2-2516-496e-b514-4649ae7907c9
DTSTART;TZID=UTC:20231107T190000
SEQUENCE:0
TRANSP:OPAQUE
DTEND;TZID=UTC:20231107T200000
LOCATION:https://www.bja.ojp.gov/events/justgrants-virtual-qa-entity-manage
 ment-105
SUMMARY:JustGrants Virtual Q&A: Entity Management
CLASS:PUBLIC
DESCRIPTION:Learn more about this event: https://www.bja.ojp.gov/events/jus
 tgrants-virtual-qa-entity-management-105
DTSTAMP:20260420T052540Z
END:VEVENT
END:VCALENDAR