BEGIN:VCALENDAR
VERSION:2.0
PRODID:-//Bureau of Justice Assistance//NONSGML Event Calendar//EN
BEGIN:VEVENT
UID:a6cf21a9-0817-4e46-85a2-6b66a4aae628
DTSTART;TZID=UTC:20231113T180000
SEQUENCE:0
TRANSP:OPAQUE
DTEND;TZID=UTC:20231113T193000
LOCATION:https://www.bja.ojp.gov/events/justgrants-virtual-qa-post-award-ma
 nagement-103
SUMMARY:JustGrants Virtual Q&A: Post-Award Management
CLASS:PUBLIC
DESCRIPTION:Learn more about this event: https://www.bja.ojp.gov/events/jus
 tgrants-virtual-qa-post-award-management-103
DTSTAMP:20260422T212620Z
END:VEVENT
END:VCALENDAR