BEGIN:VCALENDAR
VERSION:2.0
PRODID:-//Bureau of Justice Assistance//NONSGML Event Calendar//EN
BEGIN:VEVENT
UID:0454e457-3a98-4b22-bf61-4ac2c13d5ecd
DTSTART;TZID=UTC:20231120T180000
SEQUENCE:0
TRANSP:OPAQUE
DTEND;TZID=UTC:20231120T193000
LOCATION:https://www.bja.ojp.gov/events/justgrants-virtual-qa-post-award-ma
 nagement-104
SUMMARY:JustGrants Virtual Q&A: Post-Award Management
CLASS:PUBLIC
DESCRIPTION:Learn more about this event: https://www.bja.ojp.gov/events/jus
 tgrants-virtual-qa-post-award-management-104
DTSTAMP:20260422T212333Z
END:VEVENT
END:VCALENDAR