BEGIN:VCALENDAR
VERSION:2.0
PRODID:-//Bureau of Justice Assistance//NONSGML Event Calendar//EN
BEGIN:VEVENT
UID:01c30e80-dd3e-4abc-9894-57399e910dcb
DTSTART;TZID=UTC:20231106T180000
SEQUENCE:0
TRANSP:OPAQUE
DTEND;TZID=UTC:20231106T193000
LOCATION:https://www.bja.ojp.gov/events/justgrants-virtual-qa-post-award-ma
 nagement-102
SUMMARY:JustGrants Virtual Q&A: Post-Award Management
CLASS:PUBLIC
DESCRIPTION:Learn more about this event: https://www.bja.ojp.gov/events/jus
 tgrants-virtual-qa-post-award-management-102
DTSTAMP:20260422T212423Z
END:VEVENT
END:VCALENDAR