BEGIN:VCALENDAR
VERSION:2.0
PRODID:-//Bureau of Justice Assistance//NONSGML Event Calendar//EN
BEGIN:VEVENT
UID:e6fb5a86-7883-42de-a5aa-547823693778
DTSTART;TZID=UTC:20231115T190000
SEQUENCE:0
TRANSP:OPAQUE
DTEND;TZID=UTC:20231115T200000
LOCATION:https://www.bja.ojp.gov/events/medicaid-reentry-section-1115-impli
 cations-and-opportunities-jails-and-prisons
SUMMARY:Medicaid Reentry Section 1115 - Implications and Opportunities for 
 Jails and Prisons
CLASS:PUBLIC
DESCRIPTION:Learn more about this event: https://www.bja.ojp.gov/events/med
 icaid-reentry-section-1115-implications-and-opportunities-jails-and-prison
 s
DTSTAMP:20260420T023731Z
END:VEVENT
END:VCALENDAR