BEGIN:VCALENDAR
VERSION:2.0
PRODID:-//Bureau of Justice Assistance//NONSGML Event Calendar//EN
BEGIN:VEVENT
UID:e66b8547-e7d3-44c4-aff6-bb9aa0961184
DTSTART;TZID=UTC:20231128T200000
SEQUENCE:0
TRANSP:OPAQUE
DTEND;TZID=UTC:20231128T211500
LOCATION:https://www.bja.ojp.gov/events/national-restorative-coaching-progr
 am
SUMMARY:National Restorative Coaching Program
CLASS:PUBLIC
DESCRIPTION:Learn more about this event: https://www.bja.ojp.gov/events/nat
 ional-restorative-coaching-program
DTSTAMP:20260423T021608Z
END:VEVENT
END:VCALENDAR