BEGIN:VCALENDAR
VERSION:2.0
PRODID:-//Bureau of Justice Assistance//NONSGML Event Calendar//EN
BEGIN:VEVENT
UID:b2819bf6-f009-47ec-9a3a-fe196044a229
DTSTART;TZID=UTC:20231115T200000
SEQUENCE:0
TRANSP:OPAQUE
DTEND;TZID=UTC:20231115T211500
LOCATION:https://www.bja.ojp.gov/events/healing-accountability-dialogue-cri
 minal-legal-system
SUMMARY:Healing & Accountability Dialogue in the Criminal Legal System
CLASS:PUBLIC
DESCRIPTION:Learn more about this event: https://www.bja.ojp.gov/events/hea
 ling-accountability-dialogue-criminal-legal-system
DTSTAMP:20260423T021702Z
END:VEVENT
END:VCALENDAR