BEGIN:VCALENDAR
VERSION:2.0
PRODID:-//Bureau of Justice Assistance//NONSGML Event Calendar//EN
BEGIN:VEVENT
UID:b8d63ae4-117f-438e-85ff-66d9e618919d
DTSTART;TZID=UTC:20231129T180000
SEQUENCE:0
TRANSP:OPAQUE
DTEND;TZID=UTC:20231129T190000
LOCATION:https://www.bja.ojp.gov/events/stop-specialized-tta-community-viol
 ence-intervention-kickoff
SUMMARY:STOP Specialized TTA - Community Violence Intervention Kickoff
CLASS:PUBLIC
DESCRIPTION:Learn more about this event: https://www.bja.ojp.gov/events/sto
 p-specialized-tta-community-violence-intervention-kickoff
DTSTAMP:20260423T003447Z
END:VEVENT
END:VCALENDAR