BEGIN:VCALENDAR
VERSION:2.0
PRODID:-//Bureau of Justice Assistance//NONSGML Event Calendar//EN
BEGIN:VEVENT
UID:a406bfe1-eb80-45ce-98d9-c38ad49a8ac6
DTSTART;TZID=UTC:20231129T190000
SEQUENCE:0
TRANSP:OPAQUE
DTEND;TZID=UTC:20231129T203000
LOCATION:https://www.bja.ojp.gov/events/covid-innovative-approaches-populat
 ion-reduction-covid-19-mitigation-strategy
SUMMARY:COVID-Innovative Approaches to Population Reduction as a COVID-19 M
 itigation Strategy 
CLASS:PUBLIC
DESCRIPTION:Learn more about this event: https://www.bja.ojp.gov/events/cov
 id-innovative-approaches-population-reduction-covid-19-mitigation-strategy
DTSTAMP:20260422T213338Z
END:VEVENT
END:VCALENDAR