BEGIN:VCALENDAR
VERSION:2.0
PRODID:-//Bureau of Justice Assistance//NONSGML Event Calendar//EN
BEGIN:VEVENT
UID:88780d31-e8ce-4054-a1bb-20ec934e1d7a
DTSTART;TZID=UTC:20240111T190000
SEQUENCE:0
TRANSP:OPAQUE
DTEND;TZID=UTC:20240111T203000
LOCATION:https://www.bja.ojp.gov/events/fy23-second-chance-act-pay-success-
 grantee-orientation
SUMMARY:FY23 Second Chance Act Pay for Success Grantee Orientation
CLASS:PUBLIC
DESCRIPTION:Learn more about this event: https://www.bja.ojp.gov/events/fy2
 3-second-chance-act-pay-success-grantee-orientation
DTSTAMP:20260425T141827Z
END:VEVENT
END:VCALENDAR