BEGIN:VCALENDAR
VERSION:2.0
PRODID:-//Bureau of Justice Assistance//NONSGML Event Calendar//EN
BEGIN:VEVENT
UID:7f45d16e-3733-4dce-b334-41be329f5e4d
DTSTART;TZID=UTC:20240130T190000
SEQUENCE:0
TRANSP:OPAQUE
DTEND;TZID=UTC:20240130T200000
LOCATION:https://www.bja.ojp.gov/events/justgrants-virtual-qa-entity-manage
 ment-116
SUMMARY:JustGrants Virtual Q&A: Entity Management
CLASS:PUBLIC
DESCRIPTION:Learn more about this event: https://www.bja.ojp.gov/events/jus
 tgrants-virtual-qa-entity-management-116
DTSTAMP:20260420T052604Z
END:VEVENT
END:VCALENDAR