BEGIN:VCALENDAR
VERSION:2.0
PRODID:-//Bureau of Justice Assistance//NONSGML Event Calendar//EN
BEGIN:VEVENT
UID:bf67fce3-864b-47fe-a377-73076523a6cc
DTSTART;TZID=UTC:20240102T190000
SEQUENCE:0
TRANSP:OPAQUE
DTEND;TZID=UTC:20240102T200000
LOCATION:https://www.bja.ojp.gov/events/justgrants-virtual-qa-entity-manage
 ment-112
SUMMARY:JustGrants Virtual Q&A: Entity Management
CLASS:PUBLIC
DESCRIPTION:Learn more about this event: https://www.bja.ojp.gov/events/jus
 tgrants-virtual-qa-entity-management-112
DTSTAMP:20260420T052604Z
END:VEVENT
END:VCALENDAR