BEGIN:VCALENDAR
VERSION:2.0
PRODID:-//Bureau of Justice Assistance//NONSGML Event Calendar//EN
BEGIN:VEVENT
UID:f7f35fdd-c637-4085-b9c0-6bc5b3548f08
DTSTART;TZID=UTC:20240208T190000
SEQUENCE:0
TRANSP:OPAQUE
DTEND;TZID=UTC:20240208T200000
LOCATION:https://www.bja.ojp.gov/events/justgrants-weekly-training-webinar-
 award-acceptance-0
SUMMARY:JustGrants Weekly Training Webinar: Award Acceptance
CLASS:PUBLIC
DESCRIPTION:Learn more about this event: https://www.bja.ojp.gov/events/jus
 tgrants-weekly-training-webinar-award-acceptance-0
DTSTAMP:20260420T023039Z
END:VEVENT
END:VCALENDAR