BEGIN:VCALENDAR
VERSION:2.0
PRODID:-//Bureau of Justice Assistance//NONSGML Event Calendar//EN
BEGIN:VEVENT
UID:5b8b354b-3086-4624-8846-b36e46a2be68
DTSTART;TZID=UTC:20240222T190000
SEQUENCE:0
TRANSP:OPAQUE
DTEND;TZID=UTC:20240222T200000
LOCATION:https://www.bja.ojp.gov/events/justgrants-weekly-training-webinar-
 award-acceptance-2
SUMMARY:JustGrants Weekly Training Webinar: Award Acceptance
CLASS:PUBLIC
DESCRIPTION:Learn more about this event: https://www.bja.ojp.gov/events/jus
 tgrants-weekly-training-webinar-award-acceptance-2
DTSTAMP:20260420T023039Z
END:VEVENT
END:VCALENDAR