BEGIN:VCALENDAR
VERSION:2.0
PRODID:-//Bureau of Justice Assistance//NONSGML Event Calendar//EN
BEGIN:VEVENT
UID:0fc55e27-186d-4620-8603-f5e3150f672b
DTSTART;TZID=UTC:20240220T190000
SEQUENCE:0
TRANSP:OPAQUE
DTEND;TZID=UTC:20240220T200000
LOCATION:https://www.bja.ojp.gov/events/justgrants-weekly-training-webinar-
 entity-management-1
SUMMARY:JustGrants Weekly Training Webinar: Entity Management
CLASS:PUBLIC
DESCRIPTION:Learn more about this event: https://www.bja.ojp.gov/events/jus
 tgrants-weekly-training-webinar-entity-management-1
DTSTAMP:20260420T052604Z
END:VEVENT
END:VCALENDAR