BEGIN:VCALENDAR
VERSION:2.0
PRODID:-//Bureau of Justice Assistance//NONSGML Event Calendar//EN
BEGIN:VEVENT
UID:4f553d4e-8ed8-49af-8b78-422ad17b70aa
DTSTART;TZID=UTC:20240226T180000
SEQUENCE:0
TRANSP:OPAQUE
DTEND;TZID=UTC:20240226T193000
LOCATION:https://www.bja.ojp.gov/events/justgrants-weekly-training-webinar-
 post-award-management-1
SUMMARY:JustGrants Weekly Training Webinar: Post-Award Management
CLASS:PUBLIC
DESCRIPTION:Learn more about this event: https://www.bja.ojp.gov/events/jus
 tgrants-weekly-training-webinar-post-award-management-1
DTSTAMP:20260422T212332Z
END:VEVENT
END:VCALENDAR