BEGIN:VCALENDAR
VERSION:2.0
PRODID:-//Bureau of Justice Assistance//NONSGML Event Calendar//EN
BEGIN:VEVENT
UID:bb344ac5-d77f-4358-bd77-174d4bffafb3
DTSTART;TZID=UTC:20240216T180000
SEQUENCE:0
TRANSP:OPAQUE
DTEND;TZID=UTC:20240216T190000
LOCATION:https://www.bja.ojp.gov/events/using-data-prioritize-school-based-
 cvi-efforts
SUMMARY:Using Data to Prioritize School-Based CVI efforts
CLASS:PUBLIC
DESCRIPTION:Learn more about this event: https://www.bja.ojp.gov/events/usi
 ng-data-prioritize-school-based-cvi-efforts
DTSTAMP:20260423T003526Z
END:VEVENT
END:VCALENDAR