BEGIN:VCALENDAR
VERSION:2.0
PRODID:-//Bureau of Justice Assistance//NONSGML Event Calendar//EN
BEGIN:VEVENT
UID:37a8ddc4-24d9-467c-9243-70b8ff119ae6
DTSTART;TZID=UTC:20240326T180000
SEQUENCE:0
TRANSP:OPAQUE
DTEND;TZID=UTC:20240326T190000
LOCATION:https://www.bja.ojp.gov/events/justgrants-weekly-training-webinar-
 entity-management-6
SUMMARY:JustGrants Weekly Training Webinar: Entity Management
CLASS:PUBLIC
DESCRIPTION:Learn more about this event: https://www.bja.ojp.gov/events/jus
 tgrants-weekly-training-webinar-entity-management-6
DTSTAMP:20260420T022916Z
END:VEVENT
END:VCALENDAR