BEGIN:VCALENDAR
VERSION:2.0
PRODID:-//Bureau of Justice Assistance//NONSGML Event Calendar//EN
BEGIN:VEVENT
UID:daa6a1f1-0393-4190-88d9-32954d2652d4
DTSTART;TZID=UTC:20240321T180000
SEQUENCE:0
TRANSP:OPAQUE
DTEND;TZID=UTC:20240321T190000
LOCATION:https://www.bja.ojp.gov/events/justgrants-weekly-training-webinar-
 award-acceptance-6
SUMMARY:JustGrants Weekly Training Webinar: Award Acceptance
CLASS:PUBLIC
DESCRIPTION:Learn more about this event: https://www.bja.ojp.gov/events/jus
 tgrants-weekly-training-webinar-award-acceptance-6
DTSTAMP:20260420T023039Z
END:VEVENT
END:VCALENDAR