BEGIN:VCALENDAR
VERSION:2.0
PRODID:-//Bureau of Justice Assistance//NONSGML Event Calendar//EN
BEGIN:VEVENT
UID:6ebb4544-02e2-47ad-a407-01ffea75318b
DTSTART;TZID=UTC:20240327T183000
SEQUENCE:0
TRANSP:OPAQUE
DTEND;TZID=UTC:20240327T203000
LOCATION:https://www.bja.ojp.gov/events/justgrants-weekly-training-webinar-
 application-mechanics-submitting-application-training-6
SUMMARY:JustGrants Weekly Training Webinar: Application Mechanics: Submitti
 ng an Application Training
CLASS:PUBLIC
DESCRIPTION:Learn more about this event: https://www.bja.ojp.gov/events/jus
 tgrants-weekly-training-webinar-application-mechanics-submitting-applicati
 on-training-6
DTSTAMP:20260420T022958Z
END:VEVENT
END:VCALENDAR