BEGIN:VCALENDAR
VERSION:2.0
PRODID:-//Bureau of Justice Assistance//NONSGML Event Calendar//EN
BEGIN:VEVENT
UID:2300abd4-911e-4afd-9270-f8e0b40db014
DTSTART;TZID=UTC:20240319T180000
SEQUENCE:0
TRANSP:OPAQUE
DTEND;TZID=UTC:20240319T190000
LOCATION:https://www.bja.ojp.gov/events/justgrants-weekly-training-webinar-
 entity-management-5
SUMMARY:JustGrants Weekly Training Webinar: Entity Management
CLASS:PUBLIC
DESCRIPTION:Learn more about this event: https://www.bja.ojp.gov/events/jus
 tgrants-weekly-training-webinar-entity-management-5
DTSTAMP:20260420T023008Z
END:VEVENT
END:VCALENDAR