BEGIN:VCALENDAR
VERSION:2.0
PRODID:-//Bureau of Justice Assistance//NONSGML Event Calendar//EN
BEGIN:VEVENT
UID:4decb4fa-f263-4b19-8d86-561692478bb9
DTSTART;TZID=UTC:20240313T183000
SEQUENCE:0
TRANSP:OPAQUE
DTEND;TZID=UTC:20240313T203000
LOCATION:https://www.bja.ojp.gov/events/justgrants-weekly-training-webinar-
 application-mechanics-submitting-application-training-4
SUMMARY:JustGrants Weekly Training Webinar: Application Mechanics: Submitti
 ng an Application Training
CLASS:PUBLIC
DESCRIPTION:Learn more about this event: https://www.bja.ojp.gov/events/jus
 tgrants-weekly-training-webinar-application-mechanics-submitting-applicati
 on-training-4
DTSTAMP:20260420T022850Z
END:VEVENT
END:VCALENDAR