BEGIN:VCALENDAR
VERSION:2.0
PRODID:-//Bureau of Justice Assistance//NONSGML Event Calendar//EN
BEGIN:VEVENT
UID:e2c3cee6-4b37-48a6-9be0-5ad62b3c38ac
DTSTART;TZID=UTC:20240328T180000
SEQUENCE:0
TRANSP:OPAQUE
DTEND;TZID=UTC:20240328T190000
LOCATION:https://www.bja.ojp.gov/events/justgrants-weekly-training-webinar-
 award-acceptance-7
SUMMARY:JustGrants Weekly Training Webinar: Award Acceptance
CLASS:PUBLIC
DESCRIPTION:Learn more about this event: https://www.bja.ojp.gov/events/jus
 tgrants-weekly-training-webinar-award-acceptance-7
DTSTAMP:20260420T022915Z
END:VEVENT
END:VCALENDAR