BEGIN:VCALENDAR
VERSION:2.0
PRODID:-//Bureau of Justice Assistance//NONSGML Event Calendar//EN
BEGIN:VEVENT
UID:751dc309-91ff-4f6b-a8f5-400fbe7873ad
DTSTART;TZID=UTC:20240312T180000
SEQUENCE:0
TRANSP:OPAQUE
DTEND;TZID=UTC:20240312T190000
LOCATION:https://www.bja.ojp.gov/events/justgrants-weekly-training-webinar-
 entity-management-4
SUMMARY:JustGrants Weekly Training Webinar: Entity Management
CLASS:PUBLIC
DESCRIPTION:Learn more about this event: https://www.bja.ojp.gov/events/jus
 tgrants-weekly-training-webinar-entity-management-4
DTSTAMP:20260420T022959Z
END:VEVENT
END:VCALENDAR