BEGIN:VCALENDAR
VERSION:2.0
PRODID:-//Bureau of Justice Assistance//NONSGML Event Calendar//EN
BEGIN:VEVENT
UID:8692d7c3-7dd3-4af5-b92f-eca712f57990
DTSTART;TZID=UTC:20240311T170000
SEQUENCE:0
TRANSP:OPAQUE
DTEND;TZID=UTC:20240311T183000
LOCATION:https://www.bja.ojp.gov/events/justgrants-weekly-training-webinar-
 post-award-management-3
SUMMARY:JustGrants Weekly Training Webinar: Post-Award Management
CLASS:PUBLIC
DESCRIPTION:Learn more about this event: https://www.bja.ojp.gov/events/jus
 tgrants-weekly-training-webinar-post-award-management-3
DTSTAMP:20260420T023109Z
END:VEVENT
END:VCALENDAR