BEGIN:VCALENDAR
VERSION:2.0
PRODID:-//Bureau of Justice Assistance//NONSGML Event Calendar//EN
BEGIN:VEVENT
UID:7d962c09-e6c9-4208-bc99-3fcd06f745b7
DTSTART;TZID=UTC:20240516T180000
SEQUENCE:0
TRANSP:OPAQUE
DTEND;TZID=UTC:20240516T190000
LOCATION:https://www.bja.ojp.gov/events/effective-methods-building-communit
 y-trust-and-improving-perceptions-police-legitimacy
SUMMARY:Effective Methods for Building Community Trust and Improving Percep
 tions of Police Legitimacy: Engaging Victims\, Survivors\, and Family Memb
 ers in the Investigation
CLASS:PUBLIC
DESCRIPTION:Learn more about this event: https://www.bja.ojp.gov/events/eff
 ective-methods-building-community-trust-and-improving-perceptions-police-l
 egitimacy
DTSTAMP:20260422T232248Z
END:VEVENT
END:VCALENDAR