BEGIN:VCALENDAR
VERSION:2.0
PRODID:-//Bureau of Justice Assistance//NONSGML Event Calendar//EN
BEGIN:VEVENT
UID:941cf8fd-3073-4b5d-8bbe-3ef39bcc624c
DTSTART;TZID=UTC:20240529T190000
SEQUENCE:0
TRANSP:OPAQUE
DTEND;TZID=UTC:20240529T194500
LOCATION:https://www.bja.ojp.gov/events/justice-counts-tier-2-public-feedba
 ck-information-session-criminal-justice-practitioner
SUMMARY:Justice Counts Tier 2 Public Feedback Information Session—Crimina
 l Justice Practitioner Audience
CLASS:PUBLIC
DESCRIPTION:Learn more about this event: https://www.bja.ojp.gov/events/jus
 tice-counts-tier-2-public-feedback-information-session-criminal-justice-pr
 actitioner
DTSTAMP:20260420T040503Z
END:VEVENT
END:VCALENDAR