BEGIN:VCALENDAR
VERSION:2.0
PRODID:-//Bureau of Justice Assistance//NONSGML Event Calendar//EN
BEGIN:VEVENT
UID:0d170512-cb67-4ab0-9382-9dc2a44b9cc2
DTSTART;TZID=UTC:20240620T170000
SEQUENCE:0
TRANSP:OPAQUE
DTEND;TZID=UTC:20240620T183000
LOCATION:https://www.bja.ojp.gov/events/fy24-body-worn-camera-policy-and-im
 plementation-program-support-law-enforcement-agencies
SUMMARY:FY24 Body-Worn Camera Policy and Implementation Program to Support 
 Law Enforcement Agencies Solicitation
CLASS:PUBLIC
DESCRIPTION:Learn more about this event: https://www.bja.ojp.gov/events/fy2
 4-body-worn-camera-policy-and-implementation-program-support-law-enforceme
 nt-agencies
DTSTAMP:20260423T003520Z
END:VEVENT
END:VCALENDAR