BEGIN:VCALENDAR
VERSION:2.0
PRODID:-//Bureau of Justice Assistance//NONSGML Event Calendar//EN
BEGIN:VEVENT
UID:83f4e02b-b1d6-4860-8c88-fd9f83cffd32
DTSTART;TZID=UTC:20240625T180000
SEQUENCE:0
TRANSP:OPAQUE
DTEND;TZID=UTC:20240625T190000
LOCATION:https://www.bja.ojp.gov/events/national-public-safety-partnership-
 capacity-building-grants-solicitation-webinar
SUMMARY:National Public Safety Partnership Capacity Building Grants Solicit
 ation Webinar
CLASS:PUBLIC
DESCRIPTION:Learn more about this event: https://www.bja.ojp.gov/events/nat
 ional-public-safety-partnership-capacity-building-grants-solicitation-webi
 nar
DTSTAMP:20260422T232247Z
END:VEVENT
END:VCALENDAR