BEGIN:VCALENDAR
VERSION:2.0
PRODID:-//Bureau of Justice Assistance//NONSGML Event Calendar//EN
BEGIN:VEVENT
UID:5bfbd80e-4d4d-4e8b-b75f-ba4deb26403d
DTSTART;TZID=UTC:20240917T180000
SEQUENCE:0
TRANSP:OPAQUE
DTEND;TZID=UTC:20240917T193000
LOCATION:https://www.bja.ojp.gov/events/better-together-power-mothers-and-f
 amilies-improve-reentry-outcomes
SUMMARY:Better Together: The Power of Mothers and Families to Improve Reent
 ry Outcomes
CLASS:PUBLIC
DESCRIPTION:Learn more about this event: https://www.bja.ojp.gov/events/bet
 ter-together-power-mothers-and-families-improve-reentry-outcomes
DTSTAMP:20260422T225947Z
END:VEVENT
END:VCALENDAR