BEGIN:VCALENDAR
VERSION:2.0
PRODID:-//Bureau of Justice Assistance//NONSGML Event Calendar//EN
BEGIN:VEVENT
UID:51853f1f-fdd6-430a-837b-83c23328b318
DTSTART;TZID=UTC:20240828T190000
SEQUENCE:0
TRANSP:OPAQUE
DTEND;TZID=UTC:20240828T203000
LOCATION:https://www.bja.ojp.gov/events/introduction-restorative-justice-la
 ws-database
SUMMARY:Introduction to the Restorative Justice Laws Database
CLASS:PUBLIC
DESCRIPTION:Learn more about this event: https://www.bja.ojp.gov/events/int
 roduction-restorative-justice-laws-database
DTSTAMP:20260423T021652Z
END:VEVENT
END:VCALENDAR