BEGIN:VCALENDAR
VERSION:2.0
PRODID:-//Bureau of Justice Assistance//NONSGML Event Calendar//EN
BEGIN:VEVENT
UID:f949ea60-f2cc-42eb-bc86-513d7ac3a022
DTSTART;TZID=UTC:20240925T190000
SEQUENCE:0
TRANSP:OPAQUE
DTEND;TZID=UTC:20240925T203000
LOCATION:https://www.bja.ojp.gov/events/restorative-justice-midwest
SUMMARY:Restorative Justice in the Midwest
CLASS:PUBLIC
DESCRIPTION:Learn more about this event: https://www.bja.ojp.gov/events/res
 torative-justice-midwest
DTSTAMP:20260423T021608Z
END:VEVENT
END:VCALENDAR