BEGIN:VCALENDAR
VERSION:2.0
PRODID:-//Bureau of Justice Assistance//NONSGML Event Calendar//EN
BEGIN:VEVENT
UID:6b80f4cb-593b-4cea-b3c6-edca12190898
DTSTART;TZID=UTC:20240822T180000
SEQUENCE:0
TRANSP:OPAQUE
DTEND;TZID=UTC:20240822T190000
LOCATION:https://www.bja.ojp.gov/events/applying-evidence-based-practices-o
 btain-officer-buy-deflection-and-pre-arrest-diversion
SUMMARY:Applying Evidence-based Practices to Obtain Officer Buy-in for Defl
 ection and Pre-Arrest Diversion Initiatives
CLASS:PUBLIC
DESCRIPTION:Learn more about this event: https://www.bja.ojp.gov/events/app
 lying-evidence-based-practices-obtain-officer-buy-deflection-and-pre-arres
 t-diversion
DTSTAMP:20260420T010454Z
END:VEVENT
END:VCALENDAR