BEGIN:VCALENDAR
VERSION:2.0
PRODID:-//Bureau of Justice Assistance//NONSGML Event Calendar//EN
BEGIN:VEVENT
UID:60ae6c16-bafb-4fad-9495-ded3ef2cfb20
DTSTART;TZID=UTC:20241008T190000
SEQUENCE:0
TRANSP:OPAQUE
DTEND;TZID=UTC:20241008T203000
LOCATION:https://www.bja.ojp.gov/events/part-200-uniform-requirements-offic
 e-justice-programs-qa-session
SUMMARY:Part 200 Uniform Requirements: Office of Justice Programs Q&A Sessi
 on
CLASS:PUBLIC
DESCRIPTION:Learn more about this event: https://www.bja.ojp.gov/events/par
 t-200-uniform-requirements-office-justice-programs-qa-session
DTSTAMP:20260422T194608Z
END:VEVENT
END:VCALENDAR