BEGIN:VCALENDAR
VERSION:2.0
PRODID:-//Bureau of Justice Assistance//NONSGML Event Calendar//EN
BEGIN:VEVENT
UID:c7c59af1-a5dd-418c-b263-c82b5aed5f08
DTSTART;TZID=UTC:20241024T140000
SEQUENCE:0
TRANSP:OPAQUE
DTEND;TZID=UTC:20241024T160000
LOCATION:https://www.bja.ojp.gov/events/protecting-mind-behind-badge-role-p
 sychological-safety-officer-retention-and-wellness
SUMMARY:Protecting the Mind Behind the Badge: The Role of Psychological Saf
 ety in Officer Retention and Wellness
CLASS:PUBLIC
DESCRIPTION:Learn more about this event: https://www.bja.ojp.gov/events/pro
 tecting-mind-behind-badge-role-psychological-safety-officer-retention-and-
 wellness
DTSTAMP:20260422T231434Z
END:VEVENT
END:VCALENDAR