BEGIN:VCALENDAR
VERSION:2.0
PRODID:-//Bureau of Justice Assistance//NONSGML Event Calendar//EN
BEGIN:VEVENT
UID:2072b36b-cdbd-47e3-99b0-50069611f192
DTSTART;TZID=UTC:20241106T190000
SEQUENCE:0
TRANSP:OPAQUE
DTEND;TZID=UTC:20241106T203000
LOCATION:https://www.bja.ojp.gov/events/reaching-rural-solicitation-informa
 tional-webinar
SUMMARY:Reaching Rural Solicitation: Informational Webinar
CLASS:PUBLIC
DESCRIPTION:Learn more about this event: https://www.bja.ojp.gov/events/rea
 ching-rural-solicitation-informational-webinar
DTSTAMP:20260422T164043Z
END:VEVENT
END:VCALENDAR