BEGIN:VCALENDAR
VERSION:2.0
PRODID:-//Bureau of Justice Assistance//NONSGML Event Calendar//EN
BEGIN:VEVENT
UID:a3c194ea-0eff-4294-8d2e-9fd3ec15651b
DTSTART;TZID=UTC:20241120T190000
SEQUENCE:0
TRANSP:OPAQUE
DTEND;TZID=UTC:20241120T200000
LOCATION:https://www.bja.ojp.gov/events/effective-de-escalation-strategies-
 school-resource-officers-security-personnel-and-school
SUMMARY:Effective De-Escalation Strategies for School Resource Officers\, S
 ecurity Personnel\, and School Staff in a K–12 Environment
CLASS:PUBLIC
DESCRIPTION:Learn more about this event: https://www.bja.ojp.gov/events/eff
 ective-de-escalation-strategies-school-resource-officers-security-personne
 l-and-school
DTSTAMP:20260422T210756Z
END:VEVENT
END:VCALENDAR