BEGIN:VCALENDAR
VERSION:2.0
PRODID:-//Bureau of Justice Assistance//NONSGML Event Calendar//EN
BEGIN:VEVENT
UID:2aca423d-0256-43ba-bcde-3e056bf7ba0d
DTSTART;TZID=UTC:20241119T180000
SEQUENCE:0
TRANSP:OPAQUE
DTEND;TZID=UTC:20241119T193000
LOCATION:https://www.bja.ojp.gov/events/breaking-barriers-navigating-commun
 ity-supervision-challenges-rural-jurisdictions
SUMMARY:Breaking Barriers: Navigating Community Supervision Challenges in R
 ural Jurisdictions
CLASS:PUBLIC
DESCRIPTION:Learn more about this event: https://www.bja.ojp.gov/events/bre
 aking-barriers-navigating-community-supervision-challenges-rural-jurisdict
 ions
DTSTAMP:20260420T021751Z
END:VEVENT
END:VCALENDAR