BEGIN:VCALENDAR
VERSION:2.0
PRODID:-//Bureau of Justice Assistance//NONSGML Event Calendar//EN
BEGIN:VEVENT
UID:f7979d88-8b3e-4b2f-9623-ba45657acbeb
DTSTART;TZID=UTC:20241121T190000
SEQUENCE:0
TRANSP:OPAQUE
DTEND;TZID=UTC:20241121T200000
LOCATION:https://www.bja.ojp.gov/events/distinguishing-performance-measurem
 ent-evaluation-what-you-need-know
SUMMARY:Distinguishing Performance Measurement From Evaluation: What You Ne
 ed to Know
CLASS:PUBLIC
DESCRIPTION:Learn more about this event: https://www.bja.ojp.gov/events/dis
 tinguishing-performance-measurement-evaluation-what-you-need-know
DTSTAMP:20260420T052539Z
END:VEVENT
END:VCALENDAR