BEGIN:VCALENDAR
VERSION:2.0
PRODID:-//Bureau of Justice Assistance//NONSGML Event Calendar//EN
BEGIN:VEVENT
UID:1b46236b-062a-4776-9a02-f81c0bf831c6
DTSTART;TZID=UTC:20250121T180000
SEQUENCE:0
TRANSP:OPAQUE
DTEND;TZID=UTC:20250121T190000
LOCATION:https://www.bja.ojp.gov/events/fy25-ctas-update-justgrants-and-sub
 mitting-application
SUMMARY:FY25 CTAS Update: JustGrants and Submitting an Application
CLASS:PUBLIC
DESCRIPTION:Learn more about this event: https://www.bja.ojp.gov/events/fy2
 5-ctas-update-justgrants-and-submitting-application
DTSTAMP:20260420T005805Z
END:VEVENT
END:VCALENDAR