BEGIN:VCALENDAR
VERSION:2.0
PRODID:-//Bureau of Justice Assistance//NONSGML Event Calendar//EN
BEGIN:VEVENT
UID:fb335191-9ff0-45ec-a482-7c69cb554b65
DTSTART;TZID=UTC:20250107T180000
SEQUENCE:0
TRANSP:OPAQUE
DTEND;TZID=UTC:20250107T190000
LOCATION:https://www.bja.ojp.gov/events/coordinated-tribal-assistance-solic
 itation-ctas-overview-1
SUMMARY:Coordinated Tribal Assistance Solicitation (CTAS) Overview
CLASS:PUBLIC
DESCRIPTION:Learn more about this event: https://www.bja.ojp.gov/events/coo
 rdinated-tribal-assistance-solicitation-ctas-overview-1
DTSTAMP:20260419T233151Z
END:VEVENT
END:VCALENDAR